BEGIN:VCALENDAR
VERSION:2.0
PRODID:icalendar-ruby
CALSCALE:GREGORIAN
METHOD:PUBLISH
BEGIN:VEVENT
DTSTAMP:20260420T003655Z
UID:8-1308670@rccgmotl.org
DTSTART:20260927T150000Z
DTEND:20260927T163000Z
CLASS:PUBLIC
CREATED:20260419T181828
DESCRIPTION:Register To Attend In-Person
LAST-MODIFIED:20260419T181828
LOCATION:RCCG Mountain of the Lord
SUMMARY:Worship Service
URL;VALUE=URI:https://rccgmotl.org/events/worship-service--8/2026-09-27
ATTACH;FILENAME=Online-Worship-Servicev2.jpg;FMTTYPE=image/jpeg:https://dq5
 pwpg1q8ru0.cloudfront.net/2020/06/15/18/29/57/ccf4b291-7d6c-4469-8068-87ff
 1005c387/Online-Worship-Servicev2.jpg
END:VEVENT
END:VCALENDAR
